BEGIN:VCALENDAR
VERSION:2.0
PRODID:icalendar-ruby
CALSCALE:GREGORIAN
METHOD:PUBLISH
BEGIN:VEVENT
DTSTAMP:20260419T232301Z
UID:190-1296284@stjohn-smithsfalls.com
DTSTART:20261021T140000Z
DTEND:20261021T150000Z
CLASS:PUBLIC
CREATED:20260419T175645
DESCRIPTION:
LAST-MODIFIED:20260419T175645
LOCATION:St John's Church
SUMMARY:Eucharist Service - 10:00am
URL;VALUE=URI:https://www.stjohn-smithsfalls.com/events/eucharist-service-1
 0-00am/2026-10-21
END:VEVENT
END:VCALENDAR
